BEGIN:VCALENDAR
VERSION:2.0
PRODID:-//AKADEMIJA ZA GLEDALIŠČE, RADIO, FILM IN TELEVIZIJO - ECPv6.15.20//NONSGML v1.0//EN
CALSCALE:GREGORIAN
METHOD:PUBLISH
X-WR-CALNAME:AKADEMIJA ZA GLEDALIŠČE, RADIO, FILM IN TELEVIZIJO
X-ORIGINAL-URL:https://www.agrft.uni-lj.si
X-WR-CALDESC:Dogodki za AKADEMIJA ZA GLEDALIŠČE, RADIO, FILM IN TELEVIZIJO
REFRESH-INTERVAL;VALUE=DURATION:PT1H
X-Robots-Tag:noindex
X-PUBLISHED-TTL:PT1H
BEGIN:VTIMEZONE
TZID:Europe/Ljubljana
BEGIN:DAYLIGHT
TZOFFSETFROM:+0100
TZOFFSETTO:+0200
TZNAME:CEST
DTSTART:20240331T010000
END:DAYLIGHT
BEGIN:STANDARD
TZOFFSETFROM:+0200
TZOFFSETTO:+0100
TZNAME:CET
DTSTART:20241027T010000
END:STANDARD
BEGIN:DAYLIGHT
TZOFFSETFROM:+0100
TZOFFSETTO:+0200
TZNAME:CEST
DTSTART:20250330T010000
END:DAYLIGHT
BEGIN:STANDARD
TZOFFSETFROM:+0200
TZOFFSETTO:+0100
TZNAME:CET
DTSTART:20251026T010000
END:STANDARD
BEGIN:DAYLIGHT
TZOFFSETFROM:+0100
TZOFFSETTO:+0200
TZNAME:CEST
DTSTART:20260329T010000
END:DAYLIGHT
BEGIN:STANDARD
TZOFFSETFROM:+0200
TZOFFSETTO:+0100
TZNAME:CET
DTSTART:20261025T010000
END:STANDARD
END:VTIMEZONE
BEGIN:VEVENT
DTSTART;TZID=Europe/Ljubljana:20250409T180000
DTEND;TZID=Europe/Ljubljana:20250409T200000
DTSTAMP:20260423T194755
CREATED:20250404T111800Z
LAST-MODIFIED:20250404T111800Z
UID:7761-1744221600-1744228800@www.agrft.uni-lj.si
SUMMARY:Kinofilm: Praznik zvončkov
DESCRIPTION:V sredo\, 9. aprila 2025\, ob 18.00 bomo v Kinofilmu v Kinodvorani UL AGRFT predvajali češki film PRAZNIK ZVONČKOV (Slavnosti sněženek\, 1983\, 83 min)\, ki ga je režiral Jiří Menzel po literarni predlogi Bohumila Hrabala. \nFilm na humoren\, a hkrati nostalgičen način pripoveduje zgodbo o sporu med dvema lovskima družinama zaradi ustreljenega divjega prašiča. Gre za slikovito in globoko človeško pripoved\, ki združuje poezijo in realizem\, humor in pretiravanje\, veselje in žalost. Mojstrska režija in edinstven slog pripovedovanja odpirata vpogled v življenje majhne češke skupnosti\, polne nepozabnih likov in duhovitih pripetljajev. \nFilm so s slovenskimi podnapisi opremili študentje Oddelka za slavistiko Filozofske fakultete Univerze v Ljubljani. \nPo projekciji se bosta o filmu pogovarjali bohemistka doc. dr. Jana Šnytová in slavistka doc. dr. Špela Sevšek Šramel\, ki bo pogovor tudi vodila. \nProsimo\, da svojo udeležbo potrdite do srede\, 9. aprila 2025\, do 15.00 na e-naslov kino@agrft.uni-lj.si. \nDogodek pripravljamo v sodelovanju z Veleposlaništvom Češke republike v Ljubljani.
URL:https://www.agrft.uni-lj.si/dogodek/kinofilm-praznik-zvonckov/
LOCATION:Kinodvorana\, AGRFT\, Aškerčeva 5\, Ljubljana\, Slovenija
CATEGORIES:Projekcija filma
ATTACH;FMTTYPE=image/jpeg:https://www.agrft.uni-lj.si/wp-content/uploads/2025/04/Praznikzvonckov.jpg
END:VEVENT
END:VCALENDAR