BEGIN:VCALENDAR
VERSION:2.0
PRODID:-//AKADEMIJA ZA GLEDALIŠČE, RADIO, FILM IN TELEVIZIJO - ECPv6.15.20//NONSGML v1.0//EN
CALSCALE:GREGORIAN
METHOD:PUBLISH
X-WR-CALNAME:AKADEMIJA ZA GLEDALIŠČE, RADIO, FILM IN TELEVIZIJO
X-ORIGINAL-URL:https://www.agrft.uni-lj.si
X-WR-CALDESC:Dogodki za AKADEMIJA ZA GLEDALIŠČE, RADIO, FILM IN TELEVIZIJO
REFRESH-INTERVAL;VALUE=DURATION:PT1H
X-Robots-Tag:noindex
X-PUBLISHED-TTL:PT1H
BEGIN:VTIMEZONE
TZID:Europe/Ljubljana
BEGIN:DAYLIGHT
TZOFFSETFROM:+0100
TZOFFSETTO:+0200
TZNAME:CEST
DTSTART:20240331T010000
END:DAYLIGHT
BEGIN:STANDARD
TZOFFSETFROM:+0200
TZOFFSETTO:+0100
TZNAME:CET
DTSTART:20241027T010000
END:STANDARD
BEGIN:DAYLIGHT
TZOFFSETFROM:+0100
TZOFFSETTO:+0200
TZNAME:CEST
DTSTART:20250330T010000
END:DAYLIGHT
BEGIN:STANDARD
TZOFFSETFROM:+0200
TZOFFSETTO:+0100
TZNAME:CET
DTSTART:20251026T010000
END:STANDARD
BEGIN:DAYLIGHT
TZOFFSETFROM:+0100
TZOFFSETTO:+0200
TZNAME:CEST
DTSTART:20260329T010000
END:DAYLIGHT
BEGIN:STANDARD
TZOFFSETFROM:+0200
TZOFFSETTO:+0100
TZNAME:CET
DTSTART:20261025T010000
END:STANDARD
END:VTIMEZONE
BEGIN:VEVENT
DTSTART;TZID=Europe/Ljubljana:20250522T180000
DTEND;TZID=Europe/Ljubljana:20250522T200000
DTSTAMP:20260423T183144
CREATED:20250515T083740Z
LAST-MODIFIED:20250515T083740Z
UID:7975-1747936800-1747944000@www.agrft.uni-lj.si
SUMMARY:Kinofilm: Divja Slovenija
DESCRIPTION:V Kinofilmu bomo v četrtek\, 22. maja 2025\, ob 18.00 v Kinodvorani UL AGRFT predvajali film Mateja Vraniča DIVJA SLOVENIJA (2021\, 83 min). Projekcija je del festivala Raznoživo\, s katerim Mestna občina Ljubljana obeležuje mednarodni dan biodiverzitete (več na spletni strani)\, in festivala Hrana za možgane: o krizi biodiverzitete in odgovorih nanjo z znanstvenicami in znanstveniki\, ki ga pripravlja Univerza v Ljubljani (več najdete tukaj). \nV dokumentarcu Divja Slovenija se podamo med alpske vrhove in v dinarske gozdove\, potujemo preko panonskih ravnic\, se spustimo v podzemlje kraškega sveta in pod gladino Jadranskega morja. Pri vsaki pokrajini spoznamo zanjo značilen živalski in rastlinski svet. Odkrivamo tudi skrivno življenje nekaterih živalskih vrst\, ki živijo v neposredni bližini ljudi\, pogosto celo v urbanem okolju\, a nam ne pridejo pred oči. Skozi film se odstirajo osupljive podrobnosti iz živalskega sveta\, združene v privlačne in nevsiljivo poučne zgodbe\, ki jih odlikujejo zanimivi posnetki. \nProjekciji bo sledil pogovor o vlogi naravoslovnega filma pri oblikovanju družbene zavesti o nujnosti ohranjanja narave\, ki ga bo moderiral soscenarist dokumentarca Marjan Žiberna. V pogovoru bodo sodelovali Damjan Vinko\, dr. Slavko Polak\, Ana Šturm\, prof. dr. Peter Stanković in dr. Zarja Muršič. \nZaradi omejenega števila sedežev vas prosimo\, da udeležbo potrdite do četrtka\, 22. maja\, do 15.00 na e-naslov kino@agrft.uni-lj.si.
URL:https://www.agrft.uni-lj.si/dogodek/kinofilm-divja-slovenija/
LOCATION:Kinodvorana\, AGRFT\, Aškerčeva 5\, Ljubljana\, Slovenija
CATEGORIES:Projekcija filma
ATTACH;FMTTYPE=image/jpeg:https://www.agrft.uni-lj.si/wp-content/uploads/2025/05/DIVJA_SLOVENIJA.jpg
END:VEVENT
END:VCALENDAR