BEGIN:VCALENDAR
VERSION:2.0
PRODID:-//AKADEMIJA ZA GLEDALIŠČE, RADIO, FILM IN TELEVIZIJO - ECPv6.15.20//NONSGML v1.0//EN
CALSCALE:GREGORIAN
METHOD:PUBLISH
X-ORIGINAL-URL:https://www.agrft.uni-lj.si
X-WR-CALDESC:Dogodki za AKADEMIJA ZA GLEDALIŠČE, RADIO, FILM IN TELEVIZIJO
REFRESH-INTERVAL;VALUE=DURATION:PT1H
X-Robots-Tag:noindex
X-PUBLISHED-TTL:PT1H
BEGIN:VTIMEZONE
TZID:Europe/Ljubljana
BEGIN:DAYLIGHT
TZOFFSETFROM:+0100
TZOFFSETTO:+0200
TZNAME:CEST
DTSTART:20250330T010000
END:DAYLIGHT
BEGIN:STANDARD
TZOFFSETFROM:+0200
TZOFFSETTO:+0100
TZNAME:CET
DTSTART:20251026T010000
END:STANDARD
BEGIN:DAYLIGHT
TZOFFSETFROM:+0100
TZOFFSETTO:+0200
TZNAME:CEST
DTSTART:20260329T010000
END:DAYLIGHT
BEGIN:STANDARD
TZOFFSETFROM:+0200
TZOFFSETTO:+0100
TZNAME:CET
DTSTART:20261025T010000
END:STANDARD
BEGIN:DAYLIGHT
TZOFFSETFROM:+0100
TZOFFSETTO:+0200
TZNAME:CEST
DTSTART:20270328T010000
END:DAYLIGHT
BEGIN:STANDARD
TZOFFSETFROM:+0200
TZOFFSETTO:+0100
TZNAME:CET
DTSTART:20271031T010000
END:STANDARD
END:VTIMEZONE
BEGIN:VEVENT
DTSTART;TZID=Europe/Ljubljana:20260311T180000
DTEND;TZID=Europe/Ljubljana:20260311T193000
DTSTAMP:20260423T124204
CREATED:20260304T193215Z
LAST-MODIFIED:20260304T193215Z
UID:10013-1773252000-1773257400@www.agrft.uni-lj.si
SUMMARY:Kinofilm: HUSZARIK
DESCRIPTION:V sodelovanju z Lisztovim inštitutom\, Madžarskim kulturnim centrom Ljubljana bomo v sredo\, 11. marca 2026\, ob 18.00 v Kinofilmu predvajali kratke filme Zoltána Huszárika (1931–1981). Stalnice njegovega izraza so bile preplet dokumentarizma\, asociativna montaža\, vizualna poetičnost\, kompleksne zvočne strukture in odsotnost dialoga. \nGROTESKA / Groteszk / 1963 / 12 min / eksperimentalni / slovenski podnapisi / Ekspresiven niz črno-belih posnetkov potovanja umetnika\, ki nosi na hrbtu lastni portret. \nELEGIJA / Elégia / 1965 / 19 min / eksperimentalni / brez dialogov /  Eno najpomembnejših del madžarskega eksperimentalnega filma prikaže usodo konja skozi zgodovino – od nekoč ključne vloge v naravi\, vojskovanju in kmetijstvu do postopnega zatona in marginalizacije v sodobnem svetu. \nCAPRICCIO / Capriccio / 1969 / 16 min / eksperimentalni / brez dialogov / Snežaki v zimski pokrajini\, prispodobe človeških usod in minljivosti. \nAMERIGO TOT / Amerigo Tot / 1969 / 19 min / eksperimentalni / brez dialogov / Huszárik portretira kiparja Ameriga Tota z dinamičnim vizualnim jezikom\, ki poudarja fizični stik umetnika z materialom. \nPOKLON STARKAM / Tisztelet az öregasszonyoknak / 1971 / 12 min / eksperimentalni / brez dialogov / Matere\, \nki so vse življenje nosile breme sveta\, se poslavljajo. To slovo je tiho in skromno\, kot je bilo vse njihovo življenje. \nKAKOR VAM DRAGO / A piacere / 1976 / 22 min / eksperimentalni / slovenski podnapisi / Film raziskuje teme minljivosti\, smrti in spomina ter velja za eno najbolj kompleksnih Huszárikovih del. \nProsimo\, da udeležbo potrdite do srede\, 11. marca\, do 12.00 na naslov kino@agrft.uni-lj.si in pri tem navedete datum projekcije.
URL:https://www.agrft.uni-lj.si/dogodek/kinofilm-huszarik/
LOCATION:Kinodvorana\, AGRFT\, Aškerčeva 5\, Ljubljana\, Slovenija
ATTACH;FMTTYPE=image/png:https://www.agrft.uni-lj.si/wp-content/uploads/2026/03/Huszarik-1_small.png
END:VEVENT
END:VCALENDAR