BEGIN:VCALENDAR
VERSION:2.0
PRODID:-//AKADEMIJA ZA GLEDALIŠČE, RADIO, FILM IN TELEVIZIJO - ECPv6.15.20//NONSGML v1.0//EN
CALSCALE:GREGORIAN
METHOD:PUBLISH
X-ORIGINAL-URL:https://www.agrft.uni-lj.si
X-WR-CALDESC:Dogodki za AKADEMIJA ZA GLEDALIŠČE, RADIO, FILM IN TELEVIZIJO
REFRESH-INTERVAL;VALUE=DURATION:PT1H
X-Robots-Tag:noindex
X-PUBLISHED-TTL:PT1H
BEGIN:VTIMEZONE
TZID:Europe/Ljubljana
BEGIN:DAYLIGHT
TZOFFSETFROM:+0100
TZOFFSETTO:+0200
TZNAME:CEST
DTSTART:20240331T010000
END:DAYLIGHT
BEGIN:STANDARD
TZOFFSETFROM:+0200
TZOFFSETTO:+0100
TZNAME:CET
DTSTART:20241027T010000
END:STANDARD
BEGIN:DAYLIGHT
TZOFFSETFROM:+0100
TZOFFSETTO:+0200
TZNAME:CEST
DTSTART:20250330T010000
END:DAYLIGHT
BEGIN:STANDARD
TZOFFSETFROM:+0200
TZOFFSETTO:+0100
TZNAME:CET
DTSTART:20251026T010000
END:STANDARD
BEGIN:DAYLIGHT
TZOFFSETFROM:+0100
TZOFFSETTO:+0200
TZNAME:CEST
DTSTART:20260329T010000
END:DAYLIGHT
BEGIN:STANDARD
TZOFFSETFROM:+0200
TZOFFSETTO:+0100
TZNAME:CET
DTSTART:20261025T010000
END:STANDARD
END:VTIMEZONE
BEGIN:VEVENT
DTSTART;TZID=Europe/Ljubljana:20250822T080000
DTEND;TZID=Europe/Ljubljana:20250828T170000
DTSTAMP:20260422T234741
CREATED:20250825T064550Z
LAST-MODIFIED:20250825T064913Z
UID:8466-1755849600-1756400400@www.agrft.uni-lj.si
SUMMARY:Javna predstavitev del v okviru PARL-a
DESCRIPTION:V sodelovanju z UL AGRFT od 22. 8. do 31. 8. 2025 na študijskih odrih na Aškerčevi 5 poteka mednarodna platforma za raziskavo in razvoj sodobne scenske umetnosti Performance Art Research Ljubljana (PARL) Društva Via Negativa.\n\nVeč o platformi PARL\, letošnjem programu in udeležencih si lahko preberete na: https://parl.si.\n\nJavna predstavitev zaključnih del v nastajanju bo v Španskih borcih v nedeljo\, 31. 8. 2025 med 16. in 22. uro. Vljudno vabljeni!
URL:https://www.agrft.uni-lj.si/dogodek/javna-predstavitev-del-v-okviru-parl-a/
ATTACH;FMTTYPE=image/jpeg:https://www.agrft.uni-lj.si/wp-content/uploads/2025/08/MAS_0445.jpg
END:VEVENT
END:VCALENDAR